BEGIN:VCALENDAR
VERSION:2.0
PRODID:SchoolNow
CALSCALE:GREGORIAN
BEGIN:VEVENT
UID:b8031b02-8fff-11f0-9d37-0a58a9feac02
DTSTAMP:20260106T215516Z
SUMMARY:CDD Board Meeting - Jun. 2026
LOCATION:Heritage Lake Park Clubhouse\, 25635 Heritage Lake Boulevard\, Pun
 ta Gorda\, Florida 33983.
URL;VALUE=URI:https://www.hlp-cdd.com/calendar/8614847/cdd-board-meeting-ju
 n-2026
DTSTART:20260608T140000Z
DTEND:20260608T150000Z
END:VEVENT
END:VCALENDAR
