BEGIN:VCALENDAR
VERSION:2.0
PRODID:SchoolNow
CALSCALE:GREGORIAN
BEGIN:VEVENT
UID:62f23e62-fa05-11ea-b379-124888cc6fe5
DTSTAMP:20201228T161512Z
SUMMARY:CDD Board Meeting - Jan. 2021
LOCATION:Heritage Lake Park Clubhouse\, 25635 Heritage Lake Boulevard\, Pun
 ta Gorda\, Florida 33983
URL;VALUE=URI:https://www.hlp-cdd.com/calendar/2365671/cdd-board-meeting-ja
 n-2021
DTSTART:20210104T150000Z
DTEND:20210104T160000Z
ATTACH;FILENAME=2021-01-04 HLP AGENDA PACKAGE Mtg.pdf;FMTTYPE=application/p
 df:https://campussuite-storage.s3.amazonaws.com/prod/1558955/8bd6ba54-f058
 -11e9-abd4-12606da399aa/2205920/d1e41f22-4927-11eb-930c-02b2b7784309/file/
 2021-01-04 HLP AGENDA PACKAGE Mtg.pdf
END:VEVENT
END:VCALENDAR
